Workbook

Sheet 町別人口（R8.8)
C2: 町別人口・世帯数一覧表
B3: 令和8年8月31日現在
B4: 町 名 | C4: 男 | D4: 前月比 | E4: 女 | F4: 前月比 | G4: 計 | H4: 前月比 | I4: 世帯数 | J4: 前月比
B5: 浜島町 | C5: =行政区別人口!C9 -> 1543 | D5: -9 | E5: =行政区別人口!D9 -> 1791 | F5: -10 | G5: =SUM(E5,C5) -> 3334 | H5: -19 | I5: =行政区別人口!F9 -> 1882 | J5: -8
B6: 大王町 | C6: =行政区別人口!C14 -> 2267 | D6: -5 | E6: =行政区別人口!D14 -> 2734 | F6: -18 | G6: =SUM(E6,C6) -> 5001 | H6: -23 | I6: =行政区別人口!F14 -> 2798 | J6: -8
B7: 志摩町 | C7: =行政区別人口!C21 -> 3735 | D7: -3 | E7: =行政区別人口!D21 -> 4406 | F7: -6 | G7: =SUM(E7,C7) -> 8141 | H7: -9 | I7: =行政区別人口!F21 -> 4345 | J7: -1
B8: 阿児町 | C8: =行政区別人口!C29 -> 9205 | D8: -10 | E8: =行政区別人口!D29 -> 10251 | F8: -7 | G8: =SUM(E8,C8) -> 19456 | H8: -17 | I8: =行政区別人口!F29 -> 9744 | J8: 2
B9: 磯部町 | C9: =行政区別人口!C57 -> 3022 | D9: -5 | E9: =行政区別人口!D57 -> 3375 | F9: -5 | G9: =SUM(E9,C9) -> 6397 | H9: -10 | I9: =行政区別人口!F57 -> 3367 | J9: -4
B10: 計 | C10: =SUM(C5:C9) -> 19772 | D10: -32 | E10: =SUM(E5:E9) -> 22557 | F10: -46 | G10: =SUM(G5:G9) -> 42329 | H10: -78 | I10: =SUM(I5:I9) -> 22136 | J10: -19

Sheet 行政区別人口
B1: 行政区別人口・世帯数一覧表
A2: 令和8年8月31日現在
A3: 町 名 | B3: 行政区 | C3: 男 | D3: 女 | E3: 計 | F3: 世帯数
A4: 浜島町 | B4: 浜島 | C4: 1073 | D4: 1263 | E4: 2336 | F4: 1300
B5: 南張 | C5: 105 | D5: 122 | E5: 227 | F5: 132
B6: 桧山路 | C6: 57 | D6: 59 | E6: 116 | F6: 60
B7: 塩屋 | C7: 38 | D7: 44 | E7: 82 | F7: 43
B8: 迫子 | C8: 270 | D8: 303 | E8: 573 | F8: 347
B9: 計 | C9: 1543 | D9: 1791 | E9: 3334 | F9: 1882
A10: 大王町 | B10: 波切 | C10: 1487 | D10: 1820 | E10: 3307 | F10: 1825
B11: 船越 | C11: 560 | D11: 651 | E11: 1211 | F11: 716
B12: 名田 | C12: 90 | D12: 103 | E12: 193 | F12: 98
B13: 畔名 | C13: 130 | D13: 160 | E13: 290 | F13: 159
B14: 計 | C14: 2267 | D14: 2734 | E14: 5001 | F14: 2798
A15: 志摩町 | B15: 片田 | C15: 747 | D15: 891 | E15: 1638 | F15: 906
B16: 布施田 | C16: 696 | D16: 851 | E16: 1547 | F16: 805
B17: 和具 | C17: 1559 | D17: 1818 | E17: 3377 | F17: 1790
B18: 間崎 | C18: 22 | D18: 20 | E18: 42 | F18: 26
B19: 越賀 | C19: 549 | D19: 631 | E19: 1180 | F19: 619
B20: 御座 | C20: 162 | D20: 195 | E20: 357 | F20: 199
B21: 計 | C21: 3735 | D21: 4406 | E21: 8141 | F21: 4345
A22: 阿児町 | B22: 鵜方 | C22: 4081 | D22: 4583 | E22: 8664 | F22: 4244
B23: 神明 | C23: 1834 | D23: 2081 | E23: 3915 | F23: 2032
B24: 立神 | C24: 539 | D24: 561 | E24: 1100 | F24: 551
B25: 志島 | C25: 240 | D25: 316 | E25: 556 | F25: 276
B26: 甲賀 | C26: 1184 | D26: 1292 | E26: 2476 | F26: 1200
B27: 国府 | C27: 688 | D27: 743 | E27: 1431 | F27: 792
B28: 安乗 | C28: 639 | D28: 675 | E28: 1314 | F28: 649
B29: 計 | C29: 9205 | D29: 10251 | E29: 19456 | F29: 9744
A30: 磯部町 | B30: 五知 | C30: 43 | D30: 57 | E30: 100 | F30: 55
B31: 沓掛 | C31: 51 | D31: 54 | E31: 105 | F31: 57
B32: 山田 | C32: 198 | D32: 205 | E32: 403 | F32: 212
B33: 上之郷 | C33: 108 | D33: 143 | E33: 251 | F33: 120
B34: 上之郷住宅 | C34: 18 | D34: 21 | E34: 39 | F34: 21
B35: 下之郷 | C35: 244 | D35: 272 | E35: 516 | F35: 253
B36: 飯浜 | C36: 64 | D36: 79 | E36: 143 | F36: 64
B37: 恵利原 | C37: 228 | D37: 280 | E37: 508 | F37: 247
B38: 恵ケ丘 | C38: 52 | D38: 57 | E38: 109 | F38: 47
B39: 川辺 | C39: 165 | D39: 161 | E39: 326 | F39: 198
B40: 迫間一 | C40: 161 | D40: 184 | E40: 345 | F40: 177
...

Sheet 65歳以上
C1: 行政区別人口・世帯数一覧表（65歳以上）
A2: 令和8年8月31日現在
A3: 町 名 | B3: 行政区 | C3: 65歳以上人口 | F3: 65歳以上を含む世帯数
C4: 男 | D4: 女 | E4: 計 | F4: 世帯数 | G4: ひとり暮らし | H4: 高齢者のみ | I4: その他
A5: 浜島町 | B5: 浜島 | C5: 490 | D5: 732 | E5: 1222 | F5: 892 | G5: 430 | H5: 240 | I5: =F5-G5-H5 -> 222
B6: 南張 | C6: 57 | D6: 77 | E6: 134 | F6: 95 | G6: 48 | H6: 33 | I6: =F6-G6-H6 -> 14
B7: 桧山路 | C7: 30 | D7: 33 | E7: 63 | F7: 39 | G7: 11 | H7: 20 | I7: =F7-G7-H7 -> 8
B8: 塩屋 | C8: 18 | D8: 25 | E8: 43 | F8: 33 | G8: 15 | H8: 6 | I8: =F8-G8-H8 -> 12
B9: 迫子 | C9: 124 | D9: 130 | E9: 254 | F9: 187 | G9: 83 | H9: 58 | I9: =F9-G9-H9 -> 46
B10: 計 | C10: 719 | D10: 997 | E10: 1716 | F10: 1246 | G10: 587 | H10: 357 | I10: =SUM(I5:I9) -> 302
A11: 大王町 | B11: 波切 | C11: 675 | D11: 1012 | E11: 1687 | F11: 1249 | G11: 646 | H11: 327 | I11: =F11-G11-H11 -> 276
B12: 船越 | C12: 253 | D12: 370 | E12: 623 | F12: 470 | G12: 259 | H12: 105 | I12: =F12-G12-H12 -> 106
B13: 名田 | C13: 51 | D13: 60 | E13: 111 | F13: 77 | G13: 33 | H13: 21 | I13: =F13-G13-H13 -> 23
B14: 畔名 | C14: 55 | D14: 91 | E14: 146 | F14: 109 | G14: 59 | H14: 22 | I14: =F14-G14-H14 -> 28
B15: 計 | C15: 1034 | D15: 1533 | E15: 2567 | F15: 1905 | G15: 997 | H15: 475 | I15: =SUM(I11:I14) -> 433
A16: 志摩町 | B16: 片田 | C16: 370 | D16: 511 | E16: 881 | F16: 644 | G16: 327 | H16: 170 | I16: =F16-G16-H16 -> 147
B17: 布施田 | C17: 296 | D17: 445 | E17: 741 | F17: 534 | G17: 255 | H17: 131 | I17: =F17-G17-H17 -> 148
B18: 和具 | C18: 757 | D18: 986 | E18: 1743 | F18: 1224 | G18: 528 | H18: 339 | I18: =F18-G18-H18 -> 357
B19: 間崎 | C19: 16 | D19: 19 | E19: 35 | F19: 23 | G19: 10 | H19: 10 | I19: =F19-G19-H19 -> 3
B20: 越賀 | C20: 291 | D20: 385 | E20: 676 | F20: 468 | G20: 187 | H20: 160 | I20: =F20-G20-H20 -> 121
B21: 御座 | C21: 83 | D21: 109 | E21: 192 | F21: 140 | G21: 67 | H21: 39 | I21: =F21-G21-H21 -> 34
B22: 計 | C22: 1813 | D22: 2455 | E22: 4268 | F22: 3033 | G22: 1374 | H22: 849 | I22: =SUM(I16:I21) -> 810
A23: 阿児町 | B23: 鵜方 | C23: 1161 | D23: 1517 | E23: 2678 | F23: 1955 | G23: 892 | H23: 530 | I23: =F23-H23-G23 -> 533
B24: 神明 | C24: 570 | D24: 806 | E24: 1376 | F24: 1026 | G24: 501 | H24: 267 | I24: =F24-H24-G24 -> 258
B25: 立神 | C25: 215 | D25: 284 | E25: 499 | F25: 352 | G25: 153 | H25: 109 | I25: =F25-H25-G25 -> 90
B26: 志島 | C26: 104 | D26: 162 | E26: 266 | F26: 188 | G26: 78 | H26: 56 | I26: =F26-H26-G26 -> 54
B27: 甲賀 | C27: 430 | D27: 479 | E27: 909 | F27: 649 | G27: 277 | H27: 195 | I27: =F27-H27-G27 -> 177
B28: 国府 | C28: 273 | D28: 369 | E28: 642 | F28: 460 | G28: 219 | H28: 153 | I28: =F28-H28-G28 -> 88
B29: 安乗 | C29: 259 | D29: 345 | E29: 604 | F29: 429 | G29: 178 | H29: 112 | I29: =F29-H29-G29 -> 139
B30: 計 | C30: 3012 | D30: 3962 | E30: 6974 | F30: 5059 | G30: 2298 | H30: 1422 | I30: =SUM(I23:I29) -> 1339
A31: 磯部町 | B31: 五知 | C31: 23 | D31: 31 | E31: 54 | F31: 37 | G31: 15 | H31: 14 | I31: =F31-H31-G31 -> 8
B32: 沓掛 | C32: 22 | D32: 25 | E32: 47 | F32: 38 | G32: 20 | H32: 7 | I32: =F32-H32-G32 -> 11
B33: 山田 | C33: 82 | D33: 92 | E33: 174 | F33: 129 | G33: 65 | H33: 34 | I33: =F33-H33-G33 -> 30
B34: 上之郷 | C34: 48 | D34: 80 | E34: 128 | F34: 85 | G34: 34 | H34: 28 | I34: =F34-H34-G34 -> 23
B35: 上之郷住宅 | C35: 1 | D35: 6 | E35: 7 | F35: 6 | G35: 4 | H35: 0 | I35: =F35-H35-G35 -> 2
B36: 下之郷 | C36: 97 | D36: 123 | E36: 220 | F36: 158 | G36: 67 | H36: 43 | I36: =F36-H36-G36 -> 48
B37: 飯浜 | C37: 33 | D37: 37 | E37: 70 | F37: 45 | G37: 15 | H37: 11 | I37: =F37-H37-G37 -> 19
B38: 恵利原 | C38: 94 | D38: 131 | E38: 225 | F38: 159 | G38: 61 | H38: 47 | I38: =F38-H38-G38 -> 51
B39: 恵ケ丘 | C39: 12 | D39: 17 | E39: 29 | F39: 21 | G39: 8 | H39: 5 | I39: =F39-H39-G39 -> 8
B40: 川辺 | C40: 53 | D40: 62 | E40: 115 | F40: 79 | G40: 29 | H40: 27 | I40: =F40-H40-G40 -> 23
...

Sheet 年齢別
A1: 年齢別人口
A2: 令和8年8月31日 時点
A3: 年齢 | B3: 男 | C3: 女 | D3: 合計 | F3: 年齢 | G3: 男 | H3: 女 | I3: 合計
A4: 0 | B4: 62 | C4: 52 | D4: 114 | F4: 56 | G4: 311 | H4: 318 | I4: 629
A5: 1 | B5: 66 | C5: 68 | D5: 134 | F5: 57 | G5: 334 | H5: 359 | I5: 693
A6: 2 | B6: 75 | C6: 65 | D6: 140 | F6: 58 | G6: 342 | H6: 362 | I6: 704
A7: 3 | B7: 57 | C7: 72 | D7: 129 | F7: 59 | G7: 304 | H7: 365 | I7: 669
A8: 4 | B8: 91 | C8: 75 | D8: 166 | F8: 60 | G8: 268 | H8: 270 | I8: 538
A9: 5 | B9: 93 | C9: 75 | D9: 168 | F9: 61 | G9: 349 | H9: 374 | I9: 723
A10: 6 | B10: 106 | C10: 78 | D10: 184 | F10: 62 | G10: 359 | H10: 385 | I10: 744
A11: 7 | B11: 86 | C11: 108 | D11: 194 | F11: 63 | G11: 342 | H11: 362 | I11: 704
A12: 8 | B12: 114 | C12: 109 | D12: 223 | F12: 64 | G12: 338 | H12: 390 | I12: 728
A13: 9 | B13: 118 | C13: 125 | D13: 243 | F13: 65 | G13: 349 | H13: 344 | I13: 693
A14: 10 | B14: 130 | C14: 131 | D14: 261 | F14: 66 | G14: 296 | H14: 351 | I14: 647
A15: 11 | B15: 119 | C15: 120 | D15: 239 | F15: 67 | G15: 307 | H15: 344 | I15: 651
... A57: 53 | B57: 329 | C57: 309 | D57: 638 | F57: 109 | G57: 0 | H57: 0 | I57: 0
A58: 54 | B58: 314 | C58: 346 | D58: 660 | F58: 110以上 | G58: 0 | H58: 0 | I58: 0
A59: 55 | B59: 328 | C59: 326 | D59: 654 | F59: 計 | G59: 19772 | H59: 22557 | I59: 42329
F60: 60歳以上 | G60: 9414 | H60: 12245 | I60: 21659
F61: 75歳以上 | G61: 4472 | H61: 6817 | I61: 11289
